BEGIN:VCALENDAR
VERSION:2.0
PRODID:-//Felvidék Ház - ECPv6.15.13//NONSGML v1.0//EN
CALSCALE:GREGORIAN
METHOD:PUBLISH
X-WR-CALNAME:Felvidék Ház
X-ORIGINAL-URL:https://felvidekhaz.hu
X-WR-CALDESC:Események Felvidék Ház
REFRESH-INTERVAL;VALUE=DURATION:PT1H
X-Robots-Tag:noindex
X-PUBLISHED-TTL:PT1H
BEGIN:VTIMEZONE
TZID:UTC
BEGIN:STANDARD
TZOFFSETFROM:+0000
TZOFFSETTO:+0000
TZNAME:UTC
DTSTART:20200101T000000
END:STANDARD
END:VTIMEZONE
BEGIN:VEVENT
DTSTART;TZID=UTC:20211002T180000
DTEND;TZID=UTC:20211002T193000
DTSTAMP:20260419T181309
CREATED:20210929T050546Z
LAST-MODIFIED:20210929T090352Z
UID:15766-1633197600-1633203000@felvidekhaz.hu
SUMMARY:A Kárpát-medence kiváló borai Miskolcon\, a Felvidék Házban!
DESCRIPTION:Borkóstolóval egybekötött könyvbemutatót rendez a Felvidék Ház. A program során bemutatjuk A Kárpát-medence borvidékei című kötetet\, melynek szerzői Mód László és Simon András\, és a résztvevők egy borbemutató keretében megismerkedhetnek a Kárpátia Borház külhoni magyar boraival is.  \nA kötet\, amelyet az olvasóközönség elé tárunk\, a Kárpát-medence valamennyi borvidékét együtt bemutató\, gyönyörű színes akvarallekkel illusztrált kötet. „Olyan helyek\, hogy az ember bárhol megállna\, leülne\, letelepedne\, és azt mondaná\, itt maradok. S esetleg anélkül\, hogy észrevenné\, ott érné a halál.” (Hamvas Béla) \nA színes\, érdekes kiadvány mellett\, vendégeink a Kárpátia Borház által forgalmazott kiváló kühoni magyar borok közül is megkóstolhatnak néhányat\, azaz délvidéki\, felvidéki\, kárpátaljai\, őrvidéki és partiumi borokat\, köztük a felvidéki Geönczeöl Pincészetét is. A borkóstolót Barta Gábor borász vezeti. A program 2021. október 2-án 18 órakor kezdődik a Felvidék Házban (Rákóczi utca 2.). \nA Kárpátia Borház borai a helyszínen meg is vásárolhatók! \nMindenkit szeretettel várunk!
URL:https://felvidekhaz.hu/esemeny/a-karpat-medence-kivalo-nedui-miskolcon-a-felvidek-hazban/
CATEGORIES:Kiemelt
ATTACH;FMTTYPE=image/png:https://felvidekhaz.hu/wp-content/uploads/2021/09/A-Karpat-medence-kivalo-borai-a-Felvidek-Hazban.png
END:VEVENT
END:VCALENDAR