BEGIN:VCALENDAR
VERSION:2.0
PRODID:-//Felvidék Ház - ECPv6.15.13//NONSGML v1.0//EN
CALSCALE:GREGORIAN
METHOD:PUBLISH
X-WR-CALNAME:Felvidék Ház
X-ORIGINAL-URL:https://felvidekhaz.hu
X-WR-CALDESC:Események Felvidék Ház
REFRESH-INTERVAL;VALUE=DURATION:PT1H
X-Robots-Tag:noindex
X-PUBLISHED-TTL:PT1H
BEGIN:VTIMEZONE
TZID:UTC
BEGIN:STANDARD
TZOFFSETFROM:+0000
TZOFFSETTO:+0000
TZNAME:UTC
DTSTART:20230101T000000
END:STANDARD
END:VTIMEZONE
BEGIN:VEVENT
DTSTART;TZID=UTC:20240228T170000
DTEND;TZID=UTC:20240228T183000
DTSTAMP:20260421T173102
CREATED:20240214T083925Z
LAST-MODIFIED:20240214T083925Z
UID:18366-1709139600-1709145000@felvidekhaz.hu
SUMMARY:„Csak azok a kaukázusi sakálok ne üvöltöznének már…” – Köteles Ágoston könyvbemutatója
DESCRIPTION:Író-olvasó találkozó Köteles Ágostonnal\, aki könyvében a Felvidékről a szibériai Gulág\,- és a kaukázusi Gupvi- táboraiba erőszakkal elhurcolt keresztények történetét dolgozta fel. A Málenkij robotra\, azaz egy kis munkára elhurcolt emberek közel egy évtizedes szenvedéseit bemutató kiadványt a szerző jelenlétében mutatjuk be. \nA szovjet munkatáborokba elhurcolt civilekről szól ez a könyv. A szerző – személyes érintettség okán\, hiszen édesapját is elhurcolták 1945 februárjában – több évtizede kutatja a témát. Felkeresett számos túlélőt\, elsősorban szülőföldjén\, a Felső-Bódva-völgyében és más\, a történeti abaúj-tornai falvakban\, akikkel beszélgetve sok mindent megtudott a begyűjtés és a foglyok elszállításának körülményeiről\, a szovjet munkatáborokról\, az ott végzett munkáról\, a foglyok élelmezéséről\, sokak pusztulásáról\, a hazatérők viszontagságos megérkezéséről… Ezeket a beszélgetéseket fényképeken és videofelvételeken örökítette meg. Az elhangzottak nyomán szinte hihetetlen körülmények és események tárulnak az utókor elé.
URL:https://felvidekhaz.hu/esemeny/csak-azok-a-kaukazusi-sakalok-ne-uvoltoznenek-mar-koteles-agoston-konyvbemutatoja/
LOCATION:Felvidék Ház\, Rákóczi Ferenc u. 2.\, Miskolc\, 3530\, Magyarország
CATEGORIES:Kiemelt
ATTACH;FMTTYPE=image/jpeg:https://felvidekhaz.hu/wp-content/uploads/2024/02/JO-banner_1200x628_Koteles_2-1-scaled.jpg
END:VEVENT
END:VCALENDAR