BEGIN:VCALENDAR
VERSION:2.0
PRODID:-//Felvidék Ház - ECPv6.15.13//NONSGML v1.0//EN
CALSCALE:GREGORIAN
METHOD:PUBLISH
X-WR-CALNAME:Felvidék Ház
X-ORIGINAL-URL:https://felvidekhaz.hu
X-WR-CALDESC:Események Felvidék Ház
REFRESH-INTERVAL;VALUE=DURATION:PT1H
X-Robots-Tag:noindex
X-PUBLISHED-TTL:PT1H
BEGIN:VTIMEZONE
TZID:UTC
BEGIN:STANDARD
TZOFFSETFROM:+0000
TZOFFSETTO:+0000
TZNAME:UTC
DTSTART:20240101T000000
END:STANDARD
END:VTIMEZONE
BEGIN:VEVENT
DTSTART;VALUE=DATE:20250912
DTEND;VALUE=DATE:20250915
DTSTAMP:20260421T171435
CREATED:20250706T175234Z
LAST-MODIFIED:20250706T175234Z
UID:21216-1757635200-1757894399@felvidekhaz.hu
SUMMARY:Pozsony és környéke – Honismereti kirándulás
DESCRIPTION:Idén ősszel is folytatjuk honismereti kirándulásainkat. A „Szeressük vissza Felvidéket” sorozatunk következő kirándulására szeptember 12-14. között kerül sor. Ezúttal Pozsony és környéke magyar emlékeivel ismerkedünk. \nHonismereti kirándulás keretében meglátogatjuk Garamszentbenedek híres apátságát és kolostorát\, Dévény várát a Duna és a Morva találkozásánál\, Pozsonyt és látványosságait\, többek között a pozsonyi várat\, a Szent Márton dómot\, a történelmi belvárost. Ellátogatunk Vöröskő várába\, amely a Kis-Kárpátok legszebb vára.
URL:https://felvidekhaz.hu/esemeny/pozsony-es-kornyeke-honismereti-kirandulas/
CATEGORIES:Kiemelt
ATTACH;FMTTYPE=image/jpeg:https://felvidekhaz.hu/wp-content/uploads/2025/07/pozsonyeskornyeke.jpg
END:VEVENT
END:VCALENDAR