BEGIN:VCALENDAR
VERSION:2.0
PRODID:-//Felvidék Ház - ECPv6.15.13//NONSGML v1.0//EN
CALSCALE:GREGORIAN
METHOD:PUBLISH
X-WR-CALNAME:Felvidék Ház
X-ORIGINAL-URL:https://felvidekhaz.hu
X-WR-CALDESC:Események Felvidék Ház
REFRESH-INTERVAL;VALUE=DURATION:PT1H
X-Robots-Tag:noindex
X-PUBLISHED-TTL:PT1H
BEGIN:VTIMEZONE
TZID:UTC
BEGIN:STANDARD
TZOFFSETFROM:+0000
TZOFFSETTO:+0000
TZNAME:UTC
DTSTART:20230101T000000
END:STANDARD
END:VTIMEZONE
BEGIN:VEVENT
DTSTART;TZID=UTC:20241128T170000
DTEND;TZID=UTC:20241128T173000
DTSTAMP:20260424T021851
CREATED:20241107T065412Z
LAST-MODIFIED:20241107T065412Z
UID:19494-1732813200-1732815000@felvidekhaz.hu
SUMMARY:Reálisból  absztraktba – Demko László\, kassai képzőművész kiállítása
DESCRIPTION:Demko László még a kassai műszaki egyetem növendéke volt\, amikor gombát gyűjtött és a természetben gyönyörködött\, ám a kosarában már ott  lapult a jegyzettömb és a ceruza is. Telente szorgalmasan festett\, hogy eleget tehessen a szépen szaporodó megrendeléseknek. Ezzel a munkával teltek évtizedei. Közben közel 250 hazai és nemzetközi művészeti szimpóziumon és festőtáborban vett részt. Első kiállítására 1980-ban került sor. Főként tájképeket és csendéleteket fest\, azonban a figurális kompozíció sem áll tőle távol. Demko tájai megragadnak bennünket\, mert csillogó színei harmóniát sugároznak. \nA Felvidék Ház és a Herman Ottó Múzeum – Miskolci Galéria közös szervezésében megrendezésre kerülő kiállítás megnyitójára a Feledy-házban\, november 28-án kerül sor. \nvegleges demko laszlo kiallitas meghivo
URL:https://felvidekhaz.hu/esemeny/realisbol-absztraktba-demko-laszlo-kassai-kepzomuvesz-kiallitasa/
LOCATION:Feledy-ház\, Miskolc
CATEGORIES:Kiemelt
ATTACH;FMTTYPE=image/jpeg:https://felvidekhaz.hu/wp-content/uploads/2024/11/vegleges_demko_laszlo_-kiallitas_felvidek_haz_banner1.jpg
END:VEVENT
END:VCALENDAR