BEGIN:VCALENDAR
VERSION:2.0
PRODID:-//Felvidék Ház - ECPv6.15.13//NONSGML v1.0//EN
CALSCALE:GREGORIAN
METHOD:PUBLISH
X-WR-CALNAME:Felvidék Ház
X-ORIGINAL-URL:https://felvidekhaz.hu
X-WR-CALDESC:Események Felvidék Ház
REFRESH-INTERVAL;VALUE=DURATION:PT1H
X-Robots-Tag:noindex
X-PUBLISHED-TTL:PT1H
BEGIN:VTIMEZONE
TZID:UTC
BEGIN:STANDARD
TZOFFSETFROM:+0000
TZOFFSETTO:+0000
TZNAME:UTC
DTSTART:20230101T000000
END:STANDARD
END:VTIMEZONE
BEGIN:VEVENT
DTSTART;VALUE=DATE:20240214
DTEND;VALUE=DATE:20240216
DTSTAMP:20260419T191414
CREATED:20240124T071630Z
LAST-MODIFIED:20240124T071630Z
UID:18325-1707868800-1708041599@felvidekhaz.hu
SUMMARY:TALÁLKOZÁS A MESTERSÉGES INTELLIGENCIÁVAL A FELVIDÉK HÁZBAN
DESCRIPTION:Csak idő kérdése\, hogy a mesterséges intelligencia (AI) forradalmasítja a világot\, a Kárpát-medence magyarságának világát is\, ezért a Felvidék Ház kétnapos előadást és képzést szervez\, amely részletes betekintést nyújt az AI alapjaiba\, alkalmazási lehetőségeibe és a legújabb trendekbe. \nBrillmann Zsolt\, a mesterséges intelligencia (AI) területének kutatója\, két alkalommal 2-2 órás előadást és képzést tart a Felvidék Házban. Az első napon bemutatja az AI-t és alkalmazási területeit\, betekintést nyújt a kép létrehozási és -szerkesztés lehetőségeibe\, és bemutatja azt is\, hogy hogyan használhatjuk ezeket az eszközöket saját projektjeinkben. A második napon választ kapunk arra\, hogyan használható fel az AI a szövegalkotásban\, legyen szó marketingtartalomról\, ügyfélszolgálati válaszokról vagy akár kreatív írásmunkákról. Ismerteti a ChatGPT különböző előfizetési szintjeit\, funkcióit és azokat a hatékony alkalmazási módszereket\, amelyekkel maximalizálhatjuk az AI által nyújtott előnyöket vállalkozásunk vagy személyes projektjeink számára. \nBrillmann Zsolt előadása nem csak elméleti ismereteket nyújt\, hanem gyakorlati példákon keresztül is bemutatja az AI képességeit. Elmondja\, hogy miért fontos a magyar nyelv használata az AI-ban. Mi a felelősségünk a jövő generációja felé\, és kell-e félnünk a Terminátoroktól. \nAz előadás és képzés minden érdeklődő számára nyitott\, aki szeretne többet megtudni az AI jelenlegi és jövőbeli alkalmazásairól. Aki első kézből szeretne értesülni az AI legfrissebb fejlesztéseiről és annak hatásairól a kreatív iparágakra\, aki érdeklődik az AI és a szövegírás\, képszerkesztés iránt\, de a vállalkozóknak\, marketing szakembereknek\, tartalomíróknak\, kreatív szakembereknek különösen ajánljuk. A programot úgy alakítottuk ki\, hogy az egyaránt megfeleljen a kezdők és a haladók igényeinek. \nAz előadás helye és ideje: Felvidék Ház\, 2024. február 14–15.\, 16-18 óra között. \nA részvétel ingyenes\, de regisztrációhoz kötött. Regisztrálni az info@felvidekhaz.hu emailcímen lehet névvel\, emailcímmel\, telefonszámmal. Regisztrációs díj: 2000 Ft\, kezdés előtt a helyszínen befizethető. \nVárunk mindenkit szeretettel!
URL:https://felvidekhaz.hu/esemeny/talalkozas-a-mesterseges-intelligenciaval-a-felvidek-hazban/
LOCATION:Felvidék Ház\, Rákóczi Ferenc u. 2.\, Miskolc\, 3530\, Magyarország
CATEGORIES:Kiemelt
ATTACH;FMTTYPE=image/jpeg:https://felvidekhaz.hu/wp-content/uploads/2024/01/NEZZ_ES_LASS_MEGHIVO_MISKOLC.jpg
END:VEVENT
END:VCALENDAR