BEGIN:VCALENDAR
VERSION:2.0
PRODID:-//Felvidék Ház - ECPv6.15.13//NONSGML v1.0//EN
CALSCALE:GREGORIAN
METHOD:PUBLISH
X-ORIGINAL-URL:https://felvidekhaz.hu
X-WR-CALDESC:Események Felvidék Ház
REFRESH-INTERVAL;VALUE=DURATION:PT1H
X-Robots-Tag:noindex
X-PUBLISHED-TTL:PT1H
BEGIN:VTIMEZONE
TZID:UTC
BEGIN:STANDARD
TZOFFSETFROM:+0000
TZOFFSETTO:+0000
TZNAME:UTC
DTSTART:20230101T000000
END:STANDARD
END:VTIMEZONE
BEGIN:VEVENT
DTSTART;TZID=UTC:20241113T170000
DTEND;TZID=UTC:20241113T183000
DTSTAMP:20260421T162731
CREATED:20241011T124458Z
LAST-MODIFIED:20241011T124458Z
UID:19334-1731517200-1731522600@felvidekhaz.hu
SUMMARY:174 éve született a magyar gyermekirodalom egyik megteremtője – „Pósa bácsira” emlékezünk
DESCRIPTION:Pósa Lajos 1850. április 9-én látta meg a napvilágot a felvidéki  Nemesradnóton. Író\, költő\, lapszerkesztő volt\, akit a magyar gyermekirodalom egyik megteremtőjeként tartunk számon. 1914-ben  a 40. írói jubileumi  ünnepségen több ezer gyermek köszöntötte Budapesten a Városligetben. \nGazdag életútja során Benedek Elekkel szerkesztette „Az Én Újságomat”\, Móra Ferenc felfedezőjeként tartjuk számon\, s ő írta Dankó Pista nótáinak szövegét. Az általa alapított Pósa-asztal baráti társaságához olyan egyéniségek tartoztak\, mint Gárdonyi Géza\, Feszty Árpád\, Dankó Pista\, s ő alapította 1889-ben az első képes magyar gyereklapot\, amelyen 1944-ig magyar gyerekek milliói  szocializálódtak. \nEnnek ellenére majdnem igaza lett Pósának\, amikor arról írt\, hogy halála után gyorsan elfeledik majd. A kor legendás gyermekirodalmából csak Benedek Elek neve s az ő meséi maradtak fenn\, a többiek gyerekeknek íródott művei közül legfeljebb Móra Ferenc és Móricz Zsigmond került be a második világháború utáni válogatás kötetekbe. De azért nem merült teljesen feledésbe Pósa neve sem\, a rendszerváltás után ismét lehetőség kínálkozott emléke megidézésére. 2010-ben Hódmezővásárhelyen már szobrot avattak neki\, s az ő nevét vette fel a könyvtár gyermekrészlege is\, Sárospatakon a Református Tudományos Gyűjtemény Pósa-kiállítást szervezett. Rimaszombatban pedig mintegy 15 éven át működött a Csemadok Rimaszombati Területi Választmánya által útjára indított Pósa Lajos Irodalmi és Közművelődési Kávéház\, amely számos jelesünket fogadta beszélgető esteken. \nA rendezvény előadói a Pósa Lajos Társaság elnöke és alelnöke\, Pósa Judit és és Gyurán Ágnes\, akik az író szép-unokahúgai. Fellép a rimszombati Mákvirágok együttes\, akik Pósa Lajos megzenésített verseit adják elő.
URL:https://felvidekhaz.hu/esemeny/174-eve-szuletett-a-magyar-gyermekirodalom-egyik-megteremtoje-posa-bacsira-emlekezunk/
LOCATION:Felvidék Ház\, Rákóczi Ferenc u. 2.\, Miskolc\, 3530\, Magyarország
CATEGORIES:Kiemelt
ATTACH;FMTTYPE=image/jpeg:https://felvidekhaz.hu/wp-content/uploads/2024/10/Posa_bacsi_banner_1200x628_2024_Makviragok.jpg
END:VEVENT
END:VCALENDAR