BEGIN:VCALENDAR
VERSION:2.0
PRODID:-//Felvidék Ház - ECPv6.15.13//NONSGML v1.0//EN
CALSCALE:GREGORIAN
METHOD:PUBLISH
X-ORIGINAL-URL:https://felvidekhaz.hu
X-WR-CALDESC:Események Felvidék Ház
REFRESH-INTERVAL;VALUE=DURATION:PT1H
X-Robots-Tag:noindex
X-PUBLISHED-TTL:PT1H
BEGIN:VTIMEZONE
TZID:UTC
BEGIN:STANDARD
TZOFFSETFROM:+0000
TZOFFSETTO:+0000
TZNAME:UTC
DTSTART:20220101T000000
END:STANDARD
END:VTIMEZONE
BEGIN:VEVENT
DTSTART;TZID=UTC:20230609T160000
DTEND;TZID=UTC:20230609T170000
DTSTAMP:20260423T110711
CREATED:20230601T140712Z
LAST-MODIFIED:20230601T140902Z
UID:18018-1686326400-1686330000@felvidekhaz.hu
SUMMARY:Külhoni szerzők találkozója a Felvidék Ház könyves standján\, a Miskolci Ünnepi Könyvhéten
DESCRIPTION:A Felvidék Ház idei vendégei a Miskolci Ünnepi Könyvhéten\, Kövesdi Károly költő\, publicista\, Oriskó Norbert író és Tóth László költő.  A szerzők június 9-én dedikálnak\, illetve beszélgetnek az olvasókkal  16:00-17:00 óra között  a Felvidék Ház előtti standon\, az Erzsébet téren. \nA szerzőkről:  \nKövesdi Károly író\, publicista \nEgy évtizede nem jelent meg vers- vagy prózakötete\, mert a lapszerkesztés\, amely egész életét végigkíséri\, valamint a napi publicisztika\, rengeteg energiáját leköti. Jelenleg a Magyar7 című hetilap főmunkatársa. Nem lett hűtlen azonban a poézishez sem. Az idén jelenik meg új verskötete\, Visszakapott szavak- címmel. \nOriskó Norbert-író \nA természet vadvirága c. könyvvel érkezik. Ez volt az első Petőfi- bicentenáriumi kötet\, a trianoni békediktátum 100. évfordulóján jelent meg\, Petőfi Sándor születésének – akkor még közelgő – 200. évfordulója alkalmából.  Előszavát Csáky Pál\, az utószót az időközben elhunyt Duray Miklós írta. \nTóth László költő \nA Gondolat Kiadónál megjelent új verseskötetét mutatja be\, amely Rossz idők-címmel jelent meg\, s amelyben a 2018-as Wittgenstein szóvivője…utáni öt évben írt verseit adja közre. Szó lesz a tavaly megjelent próza-és drámakötetéről is\, amely ugyancsak a Gondolatnál jelent meg\,  A Világ közepe-címmel.
URL:https://felvidekhaz.hu/esemeny/kulhoni-szerzok-talalkozoja-a-felvidek-haz-konyves-standjan-a-miskolci-unnepi-konyvheten/
LOCATION:3530 Miskolc\, Erzsébet tér 3.\, 3530 Miskolc\, Erzsébet tér 3.
CATEGORIES:Kiemelt
ATTACH;FMTTYPE=image/jpeg:https://felvidekhaz.hu/wp-content/uploads/2023/06/banner_1200x628_miskolci_konyvhet_esemeny_2023.jpg
END:VEVENT
END:VCALENDAR