BEGIN:VCALENDAR
VERSION:2.0
PRODID:-//Felvidék Ház - ECPv6.15.13//NONSGML v1.0//EN
CALSCALE:GREGORIAN
METHOD:PUBLISH
X-ORIGINAL-URL:https://felvidekhaz.hu
X-WR-CALDESC:Események Felvidék Ház
REFRESH-INTERVAL;VALUE=DURATION:PT1H
X-Robots-Tag:noindex
X-PUBLISHED-TTL:PT1H
BEGIN:VTIMEZONE
TZID:UTC
BEGIN:STANDARD
TZOFFSETFROM:+0000
TZOFFSETTO:+0000
TZNAME:UTC
DTSTART:20250101T000000
END:STANDARD
END:VTIMEZONE
BEGIN:VEVENT
DTSTART;TZID=UTC:20260225T153000
DTEND;TZID=UTC:20260225T163000
DTSTAMP:20260422T111812
CREATED:20260206T143001Z
LAST-MODIFIED:20260218T122952Z
UID:23264-1772033400-1772037000@felvidekhaz.hu
SUMMARY:A velünk élő kollektív bűnösség – Gubík László\, a Magyar Szövetség elnökének előadása
DESCRIPTION:Gubík László az anyaországiak körében is közismert személyiség\, hiszen ő volt az egyik első felvidéki magyar\, aki a nyilvánosság előtt vállalta a magyar állampolgárságát annak ellenére\, hogy ez Szlovákiában a szlovák állampolgárság elvesztésével jár. \nA hagyományos emberi értékek melletti kiállásával\, a Via Nova ifjúsági csoport megalakításával\, a Martosi Szabadegyetem működtetésével\, az Esterházy Akadémia megalapításával példa lehet a most felnőtté váló fiatalabb generáció számára is. \nA Magyar Szövetség elnökeként Gubík László élére állt a Beneš-dekrétumok újraélesztése miatt kirobbant tiltakozó megmozdulásoknak. A Magyar Szövetség nemcsak politikai ügyként\, szakértői szinten is próbálja tematizálni a dekrétumokat és az utókonfiskációkat. Erről szól előadása\, valamint arról is\, hogyan látja a felvidéki magyarság jelenlegi helyzetét\, és a maga részéről milyen feladatokat vállal a közösség megmaradásának és gyarapodásának érdekében.
URL:https://felvidekhaz.hu/esemeny/a-velunk-elo-kollektiv-bunosseg-gubik-laszlo-a-magyar-szovetseg-elnokenek-eloadasa/
LOCATION:Felvidék Ház Miskolci Galéria
CATEGORIES:Kiemelt
ATTACH;FMTTYPE=image/jpeg:https://felvidekhaz.hu/wp-content/uploads/2026/02/velunk_elo_kollektiv_bunosseg_MODOSITOTTDATUMMAL.jpg
END:VEVENT
END:VCALENDAR